BEGIN:VCALENDAR
VERSION:2.0
PRODID:icalendar-ruby
CALSCALE:GREGORIAN
METHOD:PUBLISH
BEGIN:VEVENT
DTSTAMP:20260421T165250Z
UID:98-14760@nashvilleroad.tithelysetup3.com
DTSTART:20260122T000000Z
DTEND:20260122T013000Z
CLASS:PUBLIC
CREATED:20260329T061610
DESCRIPTION:\n\n\nAn awesome evening for youth between the ages of 12-18 an
 d it's a great opportunity to meet and hang out with other young people in
  an easygoing\, fun atmosphere. The night is casual with sports\, ping pon
 g\, wii\, group games\, some dialogue around some really important questio
 ns of life ... and food. \nThis week we're looking forward to enjoying a 
 great night as we connect and encourage one another and continue our Youth
  Alpha series!  Everyone is welcome\, so bring a friend or two!\n\n\n\n\n
LAST-MODIFIED:20260329T061610
LOCATION:The Gym at Nashville Road
SUMMARY:Youth Night
URL;VALUE=URI:https://www.nashvilleroad.ca/events/youth-night/2026-01-21
ATTACH;FILENAME=Tithely Youth Night Graphic.jpg;FMTTYPE=image/jpeg:https://
 dq5pwpg1q8ru0.cloudfront.net/2025/12/01/11/31/46/a2e8d590-ebe2-4cf0-84d9-e
 fcaa5c09e56/Tithely%20Youth%20Night%20Graphic.jpg
END:VEVENT
END:VCALENDAR
